BEGIN:VCALENDAR
PRODID:-//POLYNEO//BayKommun Event//DE
VERSION:2.0
CALSCALE:GREGORIAN
METHOD:PUBLISH
BEGIN:VTIMEZONE
TZID:Europe/Berlin
X-LIC-LOCATION:Europe/Berlin
BEGIN:DAYLIGHT
TZOFFSETFROM:+0100
TZOFFSETTO:+0200
TZNAME:CEST
DTSTART:19700329T020000
RRULE:FREQ=YEARLY;BYMONTH=3;BYDAY=-1SU
END:DAYLIGHT
BEGIN:STANDARD
TZOFFSETFROM:+0200
TZOFFSETTO:+0100
TZNAME:CET
DTSTART:19701025T030000
RRULE:FREQ=YEARLY;BYMONTH=10;BYDAY=-1SU
END:STANDARD
END:VTIMEZONE
BEGIN:VEVENT
UID:f893687bca4b77136d9c18902853c115dce7730f0765b1bd7f9bc20a0e1b5d8f@www.
 baykommun.bayern
DTSTAMP:20260424T173427Z
DTSTART;TZID=Europe/Berlin:20260730T113000
DTEND;TZID=Europe/Berlin:20260730T121500
SUMMARY:BayKoNet - Onboarding Schulung
LOCATION:Im BayKoNet &#40\;vorher registrieren&#41\;
DESCRIPTION:Wir laden alle neuen User zu unserer monatlich stattfindenden
  Onboarding Schulung ein. In kompakten 45min zeigen wir Euch wie Ihr das 
 BayKoNet am besten nutzt und geben hilfreiche Tipps &amp\; Tricks.\n\nAns
 tehende Termine 2026 (die Termine sind inhaltsgleich):\n\n\n\nDienstag\, 
 24.3. von 11:30 – 12:15 Uhr\nMittwoch\, 22.4. von 14:00 – 14:45 Uhr\n
 Donnerstag\, 7.5. von 08:45 – 09:30 Uhr\nFreitag\, 12.6. von 11:0…
URL:https://www.baykommun.bayern/events-media/event/baykonet-onboarding-s
 chulung.html?day=20260730&times=1785403800%2C1785406500
END:VEVENT
END:VCALENDAR
